BEGIN:VCALENDAR
VERSION:2.0
PRODID:-//wp-events-plugin.com//7.2.3.1//EN
TZID:Europe/Berlin
X-WR-TIMEZONE:Europe/Berlin
BEGIN:VEVENT
UID:11@kjf-los.de
DTSTART;TZID=Europe/Berlin:20211106T000000
DTEND;TZID=Europe/Berlin:20211106T000000
DTSTAMP:20210307T232119Z
URL:https://kjf-los.de/termin/kreisjugendfeuerwehrausschusssitzung-03-2021
 /
SUMMARY:Kreisjugendfeuerwehrausschusssitzung 03-2021
DESCRIPTION:Der Kreisjugendfeuerwehrausschuss kann als Online- oder Hybrids
 itzung veranstaltet werden. Die Einladungen inklusive vorläufiger Tagesor
 dnung erfolgen rechtzeitig.
END:VEVENT
BEGIN:VTIMEZONE
TZID:Europe/Berlin
X-LIC-LOCATION:Europe/Berlin
BEGIN:STANDARD
DTSTART:20211031T020000
TZOFFSETFROM:+0200
TZOFFSETTO:+0100
TZNAME:CET
END:STANDARD
END:VTIMEZONE
END:VCALENDAR